BEGIN:VCALENDAR
VERSION:2.0
PRODID:-//Tukios.com/
BEGIN:VEVENT
UID:f6a78c11-3c6d-4d4f-a8fc-735fe7873ac4@www.titusfuneralhome.com
DTSTAMP:20260422T225927Z
DTSTART:20260427
SUMMARY:Burial
DESCRIPTION:
URL:https://www.titusfuneralhome.com/obituaries/richard-sisk-jr
LOCATION: 421 N Maple Ave  Warsaw IN 46580
GEO:41.2449118;-85.8380895
END:VEVENT
END:VCALENDAR