BEGIN:VCALENDAR
VERSION:2.0
PRODID:-//Tukios.com/
BEGIN:VEVENT
UID:3eb496f6-3ae7-4560-995d-08370b5db955@www.titusfuneralhome.com
DTSTAMP:20260422T225235Z
DTSTART:20260427T160000Z
DTEND:20260427T170000Z
SUMMARY:Funeral Service
DESCRIPTION:
URL:https://www.titusfuneralhome.com/obituaries/richard-sisk-jr
LOCATION: 2000 Sheridan Street  Warsaw IN 46580
GEO:41.2412505;-85.829894
END:VEVENT
END:VCALENDAR