BEGIN:VCALENDAR
VERSION:2.0
PRODID:-//Tukios.com/
BEGIN:VEVENT
UID:5a5b57ca-466f-410e-9f99-7c55a35cd8db@www.titusfuneralhome.com
DTSTAMP:20260422T225235Z
DTSTART:20260427T140000Z
DTEND:20260427T160000Z
SUMMARY:Visitation
DESCRIPTION:
URL:https://www.titusfuneralhome.com/obituaries/richard-sisk-jr
LOCATION: 2000 Sheridan Street  Warsaw IN 46580
GEO:41.2412505;-85.829894
END:VEVENT
END:VCALENDAR