BEGIN:VCALENDAR
VERSION:2.0
PRODID:-//Tukios.com/
BEGIN:VEVENT
UID:ddb1789a-5fc4-4d89-b6f6-dd3d05cd4483@www.titusfuneralhome.com
DTSTAMP:20260422T194717Z
DTSTART:20260426T180000Z
DTEND:20260426T200000Z
SUMMARY:Memorial Gathering
DESCRIPTION:
URL:https://www.titusfuneralhome.com/obituaries/earle-hanlin
LOCATION: 2000 Sheridan Street  Warsaw IN 46580
GEO:41.2412505;-85.829894
END:VEVENT
END:VCALENDAR